BEGIN:VCALENDAR
VERSION:2.0
PRODID:-//Bistriţa Medievală - ECPv5.16.3//NONSGML v1.0//EN
CALSCALE:GREGORIAN
METHOD:PUBLISH
X-ORIGINAL-URL:https://bistritamedievala.ro
X-WR-CALDESC:Events for Bistriţa Medievală
REFRESH-INTERVAL;VALUE=DURATION:PT1H
X-Robots-Tag:noindex
X-PUBLISHED-TTL:PT1H
BEGIN:VTIMEZONE
TZID:Europe/Bucharest
BEGIN:DAYLIGHT
TZOFFSETFROM:+0200
TZOFFSETTO:+0300
TZNAME:EEST
DTSTART:20170326T010000
END:DAYLIGHT
BEGIN:STANDARD
TZOFFSETFROM:+0300
TZOFFSETTO:+0200
TZNAME:EET
DTSTART:20171029T010000
END:STANDARD
END:VTIMEZONE
BEGIN:VEVENT
DTSTART;VALUE=DATE:20170623
DTEND;VALUE=DATE:20170627
DTSTAMP:20260425T032543
CREATED:20210609T115131Z
LAST-MODIFIED:20210614T101648Z
UID:1864-1498186800-1498445999@bistritamedievala.ro
SUMMARY:Serbările Bistritei Medievale 2017
DESCRIPTION:[vc_row][vc_column icons_position=”left”][vc_column_text] \nPROGRAM SERBARILE BISTRITEI MEDIEVALE 2017\nSfantul Nicolae\, ocrotitorul Cetatii Bistritei\nVineri\, 23.06\nPietonal Centrul Istoric\n11.00 – 18.00 \nInstalarea mesterilor la Targul medieval \nScena mica\nE seara si e divin\, seniori! \n19.00 \nO istorie a Cetatii cu Castelanul Sasarman \n19.15 \nRondul Garzii de Bistrita \n19.20 \nDansuri medievale cu formatia NOSA \n19.45 \nBalade medievale irlandeze cu Patrick O’Mahoney \n20.15 \nIn inima cetatii – povestile medievale ale Cetatii Bistritei \n20.30 \nMoment Garda Cetatii Bistritei – animatie cavalereasca \n21.30 \nSpectacol de animatie cu foc cu SiriuS \n22.00 \nE noapte si e frig\, Seniori! \nSambata\, 24.06\nComplexul Muzeal Judetean Bistrita-Nasaud\n10.00 – 13.00 \nConcursul de maiestrie “Arcasul Tinutului Nosnerland” \n12.30 – Concert de muzica medievala cu Strella Do Dia (Portugalia) \nPremierea celui mai bun arcas \n13.30 \nPranz medieval cu nobilii oaspeti ai Cetatii Bistrita \nPietonal Centrul Istoric\n08.00 – 10.00 \nInstalare tabara Paladinii de Terra Medies \nInstalare tabara Strajerii Cetatii Bistritei \n10.00 – 11.00 \nTargul medieval. Prezentare mesteri \n10.00 – 10.30 \nSpectacol cavaleresc interactiv cu Strajerii Cetatii Bistritei \n11.30 – 12.00 \nSpectacol cavaleresc interactiv cu Paladinii de Terra Medies \n12.00 – 12.30 \nSesiune interactiva cu Papusile medievale uriase ale Bistritei \nScena mica\n11.00 – 11.30 \nSpectacol interactiv pentru copii – Scufita Rosie – Teatrul Peter Pann Campina \n12.30 –13.00 \nCoregrafii si atelier de dans medieval cu trupa Nosa si domnita Alia \n13.15 –13.45 \nMiniconcert cu trupa 2fire\, 2 paie \n17.00 – 17.30 \nSpectacol muzical interactiv pentru copii –  Doi prieteni  cu Teatrul Peter Pann Campina \n17.30 – 17.45 \nDefilare Baby Party \nScena mare\, taberele de cavaleri\n14.00 – 14.45 \nProbe de sunet Strella do Dia \n15.00 – 16.00 \nProbe de sunet Ad Hoc \n16.00 – 17.30 \nStrajerii Cetatii Bistritei – Paladinii de Terra Medies – Turnirul luptelor full-contact \n16.30 \nIntermezzo de dansuri medievale cu Nosa \n17.00 – 17.30 \nSpectacol de teatru stradal cu Trimbulinzii din cetatea Hermanstadt \n18.00 \nParada medievala pe traseul Pietonal Liviu Rebreanu – Piata Unirii – str Dornei – str Gheorghe Sincai – str Alexandru Odobescu – str Nicolae Titulescu – Piata Centrala – scena mare \n18.45 \nDeschiderea oficiala a SERBARILOR BISTRITEI MEDIEVALE \nJudele vremurilor de acum lasa Cetatea Bistritei in seama Judelui istoric \n19.00 \nScenariu istoric: Cetatea Bistritei cere ocrotirea Sfantului Nicolae \nStatuia Sf. Nicolae este adusa in Cetate \n19.10 – 19.30 \nSpectacol de teatru stradal cu Trimbulinzii din cetatea Hermanstadt \n19.30 \nRondul Garzii Cetatii Bistritei \n19.35 \nConcert de muzica medievala cu trupa Ad Hoc \n20.30 \nDomnita Bistritei junior si senior – Concurs de aptitudini \n21.15 \nConcert extraordinar STRELLA DO DIA (Portugalia) \n22.30 \nProcesiune cu torte si Coregrafie Herr Mannelig cu Nosa si Strajerii Cetatii Bistrita \n23.00 \nE noapte si e frig\, Seniori \n\nDuminica\, 25.06\nScena mica\, pietonal\n10.00 \nTargul medieval. Prezentare mesteri \n11.00 \nTeatrul de papusi “Alexandru Misiuga” \n12.00 \nMini concert Strella Do Dia \,  participa grupul NOSA si Domnita Alia \n12.30 \nTeatru stradal cu Trimbulinzii \n13.00 \nAteliere manuire papusi cu Teatrul Peter Pann Campina \n15.30 \nSpectacol interactiv pentru copii – Hensel si Gretel – Teatrul Peter Pann Campina \nScena mare\n13.30 – 15.30 \nProbe de sunet New Proscenium si Strella do Dia \n16.00 \nCoregrafii si scoala de dans medieval cu Nosa si domnita Alia \nSesiune interactiva cu Papusile medievale uriase ale Bistritei \n16.30 \nTeatru stradal cu Trimbulinzii \n17.00 \nStrajerii Cetatii Bistritei – Paladinii de Terra Medies – Turnirul luptelor full-contact \nPremierea castigatorilor \n18.00 \nApararea Cetatii Bistritei: Batalia cu pungi cu apa. Participa oastea barbara\, Garda de Bistrita si populatia cetatii \n18.30 \nStatuia Sf Nicolae\, Ocrotitorul Cetatii Bistritei se intoarce in istorie \n19.00 \nPatrulare Garda Cetatii Bistritei. Momente interactive cu publicul \n19.05 \nLegenda celui mai inalt Turn din Siebenburgen cu Trimbulinzii \n19.30 \nConcert de muzica medievala cu Strella Do Dia (Portugalia) \n20.15 \nDomnita Bistritei – concurs de aptitudini \n20.45 \nMenestrelii veacului XXI: Concert New Proscenium (tribute Nightwish) \n21.45 \nDomnita Bistritei – premierea \n22.10 \nCetatea Bistritei este redata Judelui vremurilor noastre \n22.20 \nSpectacol de animatie cu foc – Trupa Fire Dream \n23.00 \nE noapte si e frig\, seniori![/vc_column_text][/vc_column][/vc_row][vc_row el_class=”event-gallery-zone”][vc_column icons_position=”left”][vc_media_grid style=”pagination” items_per_page=”16″ element_width=”3″ grid_id=”vc_gid:1623675474763-4b374175-d8c6-6″ include=”2239\,2240\,2241\,2242\,2243\,2244\,2245\,2246\,2247\,2248\,2249\,2250\,2251\,2252\,2253\,2254\,2255\,2256\,2257\,2258\,2259\,2260\,2261\,2262\,2263\,2264\,2265\,2266\,2267\,2268\,2269\,2270\,2271\,2272\,2273\,2274\,2275\,2276\,2277\,2278\,2279\,2280\,2281\,2282\,2283\,2284\,2285\,2286\,2287\,2288\,2289\,2290\,2291\,2292\,2293\,2294\,2295\,2296\,2297\,2298\,2299\,2300\,2301\,2302\,2303\,2304\,2305\,2306\,2307\,2308\,2309\,2310\,2311\,2312\,2313\,2314\,2315\,2316\,2317\,2318\,2319\,2320\,2321\,2322\,2323\,2324\,2325\,2326\,2327\,2328\,2329\,2330\,2331\,2332\,2333\,2334\,2335\,2336\,2337\,2338\,2339\,2340\,2341\,2342\,2343\,2344\,2345\,2346\,2347\,2348\,2349\,2350\,2351\,2352\,2353\,2354\,2355\,2356\,2357\,2358\,2359\,2360\,2361\,2362\,2363\,2364\,2365\,2366\,2367\,2368\,2369\,2370\,2371\,2372\,2373\,2374\,2375\,2376\,2377\,2378\,2379\,2380\,2381\,2382\,2383\,2384\,2385\,2386\,2387\,2388\,2389\,2390\,2391\,2392\,2393\,2394\,2395\,2396\,2397\,2398\,2399\,2400\,2401\,2402\,2403\,2404\,2405\,2406\,2407\,2408\,2409\,2410\,2411\,2412\,2413\,2414\,2415\,2416\,2417\,2418\,2419\,2420\,2421\,2422\,2423\,2424\,2425\,2426\,2427\,2428\,2429\,2430\,2431\,2432\,2433\,2434\,2435\,2436\,2437\,2438\,2439\,2440\,2441\,2442\,2443\,2444\,2445\,2446\,2447\,2448\,2449\,2450\,2451\,2452\,2453\,2454\,2455\,2456\,2457″][/vc_column][/vc_row][vc_row][vc_column icons_position=”left”][vc_column_text] \nArcașul Tinutului Nösnerland\n[/vc_column_text][vc_single_image image=”2085″ img_size=”full”][/vc_column][/vc_row][vc_row el_class=”event-gallery-zone”][vc_column icons_position=”left”][vc_column_text] \nRegulament Arcașul Tinutului Nösnerland\n\n\n\nArcașul Tinutului Nösnerland\nRegulament\n  \nConcursul de măiestrie „Arcașul Ținutului Nösnerland” se va desfășura sâmbătă 24 iunie 2017 la Complexul Muzeal Județean Bistrița-Năsăud începând cu ora 10.00. \nSunt permise în concurs doar arcuri din lemn sau materiale naturale (corn\, tendon\, etc.) laminate sau nu cu fibră de sticlă\, cu sau fără fereastră\, săgeți doar din lemn. Priza pe coardă mediteraneană\, inel sau “three under” cu condiția ca un deget să atingă săgeata. Nu este permis “string walking”. De asemenea nu sunt permise arcurile cu crosă metalică\, take-down sau echipate cu stabilizatoare și alte accesorii. \nÎn cadrul concursului vor fi două runde de tragere. \nLa începutul concursului participanților li se va verifica echipamentul de tragere și fiecare va primi câte o fișă de scor pe care se vor completa punctele după fiecare tragere. \nVor fi 10 ținte (animale 3D) poziționate la distanțe diferite\, iar fiecare arcaș va trebui să tragă câte 3 săgeți pe fiecare țintă (punctajul se cumulează pe cele 3 săgeți). \nZonele de punctaj sunt marcate pe animale\, cu 5\, 8 și 10 puncte. Se punctează doar săgețile care rămân în țintă. Câștigătorii vor fi desemnați în funcție de numărul total de puncte acumulate în cele 2 runde de tragere. \nPremiile acordate: Premiul I – 600 lei; Premiul II – 500 lei\, Premiul III – 400 lei. \nToți participanții vor primi diplomă și suveniruri. \n\n\n[/vc_column_text][/vc_column][/vc_row]
URL:https://bistritamedievala.ro/event/serbarile-bistritei-medievale-2017/
LOCATION:Bistriţa\, Bistriţa\, România
ATTACH;FMTTYPE=image/jpeg:https://bistritamedievala.ro/wp-content/uploads/2021/06/afiswebserbarilebistriteimedievale2017.jpg
END:VEVENT
END:VCALENDAR