BEGIN:VCALENDAR
VERSION:2.0
PRODID:-//Bistriţa Medievală - ECPv5.16.3//NONSGML v1.0//EN
CALSCALE:GREGORIAN
METHOD:PUBLISH
X-ORIGINAL-URL:https://bistritamedievala.ro
X-WR-CALDESC:Events for Bistriţa Medievală
REFRESH-INTERVAL;VALUE=DURATION:PT1H
X-Robots-Tag:noindex
X-PUBLISHED-TTL:PT1H
BEGIN:VTIMEZONE
TZID:Europe/Bucharest
BEGIN:DAYLIGHT
TZOFFSETFROM:+0200
TZOFFSETTO:+0300
TZNAME:EEST
DTSTART:20180325T010000
END:DAYLIGHT
BEGIN:STANDARD
TZOFFSETFROM:+0300
TZOFFSETTO:+0200
TZNAME:EET
DTSTART:20181028T010000
END:STANDARD
END:VTIMEZONE
BEGIN:VEVENT
DTSTART;VALUE=DATE:20180901
DTEND;VALUE=DATE:20180904
DTSTAMP:20260424T082417
CREATED:20210609T120146Z
LAST-MODIFIED:20210614T095336Z
UID:2087-1535770800-1535943599@bistritamedievala.ro
SUMMARY:Zilele Medievale 2018
DESCRIPTION:[vc_row][vc_column icons_position=”left”][vc_column_text] \nZILELE MEDIEVALE\nDin cadrul Targului Mare al Bistritei 2018\n1-2 Septembrie 2018\nPiata Centrala – Bistrita\nSambata\, 1 septembrie\nScena mica\n08.00 – 10.00    Instalarea tabara Ordinul Cavalerilor de Medias \n10.00    Targul medieval. Prezentare mesteri. \nAteliere interactive de dans si tir cu arcul \n11.30    ​Miniconcert Obscurus Orbis (Letonia) \n12.00    Sesiune interactiva cu Papusile medievale uriase ale Bistritei​ \n12.30    Probe de sunet scena mare \n15.00    Coregrafii si atelier de dans medieval cu trupa Nosa si Domnita Alia \n16.00    Balade medievale irlandeze cu Peter Moynahan​ \n17.00    Parada medievala pe traseul Pietonal Liviu Rebreanu – Piata Centrala​ \nScena mare\n17.40    Dansuri medievale\, trupa Nosa \n18.00    Ordinul Cavalerilor de Medias lupte demonstrative \, tactici de lupta si lupte HMB \nspecifice sec. XV. \n18.40    Concert de muzica medievala cu trupa Obscurus Orbis (Letonia) \n19.15    Domnita Bistritei – Concurs de aptitudini \n19.45    Recital extraordinar Koza Mostra (Grecia) \n21.00    Spectacol de animatie cu foc SiriuS \nDuminica\, 2 septembrie\nScena mica\n10.00    Targul medieval. Prezentare mesteri. \nAteliere interactive de dans si tir cu arcul \n10.30    Sesiune interactiva cu Papusile medievale uriase ale Bistritei \n11.00    Teatrul de papusi “Alexandru Misiuga” \n12.00    Mini concert Obscurus Orbis (Letonia)\, participa grupul NOSA si Domnita Alia \n12.30    Dansuri medievale\, trupa Nosa \n13.00    Probe de sunet scena mare \n15.00    Sesiune interactiva cu Papusile medievale uriase ale Bistritei \n15.30    Ordinul Cavalerilor de Medias spectacol de arme si dansuri medievale \n16.30    Balade medievale irlandeze cu Peter Moynahan \n17.00    Dansuri medievale\, trupa Nosa \n17.30    Balade medievale irlandeze cu Peter Moynahan \n18.00    Ordinul Cavalerilor de Medias lupte demonstrative \, tactici de lupta si lupte HMB \nScena mare\n19.00    Domnita Bistritei – Concurs de aptitudini \n19.45    Recital extraordinar Obscurus Orbis (Letonia) – rock \n20.45    Domnita Bistritei – festivitatea de premiere \n21.00    Spectacol de animatie cu foc SiriuS[/vc_column_text][/vc_column][/vc_row][vc_row el_class=”event-gallery-zone”][vc_column icons_position=”left”][vc_media_grid style=”pagination” items_per_page=”12″ element_width=”3″ grid_id=”vc_gid:1623674849804-04b38a81-a915-1″ include=”2129\,2130\,2131\,2132\,2133\,2134\,2135\,2136\,2137\,2138\,2139\,2140\,2141\,2142\,2143\,2144\,2145\,2146\,2147\,2148\,2149\,2150\,2151\,2152\,2153\,2154\,2155\,2156\,2157\,2158\,2159\,2160\,2161\,2162\,2163\,2164\,2165\,2166\,2167\,2168\,2169\,2170\,2171\,2172\,2173\,2174\,2175\,2176\,2177\,2178\,2179\,2180\,2181\,2182\,2183\,2184\,2185\,2186\,2187\,2188\,2189\,2190\,2191\,2192\,2193\,2194\,2195\,2196\,2197\,2198\,2199\,2200\,2201\,2202\,2203\,2204\,2205\,2206\,2207\,2208\,2209\,2210\,2211\,2212\,2213\,2214\,2215\,2216\,2217\,2218\,2219\,2220\,2221\,2222\,2223\,2224\,2225\,2227\,2228\,2229\,2230\,2231\,2232″][/vc_column][/vc_row]
URL:https://bistritamedievala.ro/event/zilele-medievale-2018/
LOCATION:Bistriţa\, Bistriţa\, România
ATTACH;FMTTYPE=image/jpeg:https://bistritamedievala.ro/wp-content/uploads/2021/06/afisbistritamedievala-afis2018.jpg
END:VEVENT
END:VCALENDAR