BEGIN:VCALENDAR
VERSION:2.0
PRODID:-//Bistriţa Medievală - ECPv5.16.3//NONSGML v1.0//EN
CALSCALE:GREGORIAN
METHOD:PUBLISH
X-WR-CALNAME:Bistriţa Medievală
X-ORIGINAL-URL:https://bistritamedievala.ro
X-WR-CALDESC:Events for Bistriţa Medievală
REFRESH-INTERVAL;VALUE=DURATION:PT1H
X-Robots-Tag:noindex
X-PUBLISHED-TTL:PT1H
BEGIN:VTIMEZONE
TZID:Europe/Bucharest
BEGIN:DAYLIGHT
TZOFFSETFROM:+0200
TZOFFSETTO:+0300
TZNAME:EEST
DTSTART:20220327T010000
END:DAYLIGHT
BEGIN:STANDARD
TZOFFSETFROM:+0300
TZOFFSETTO:+0200
TZNAME:EET
DTSTART:20221030T010000
END:STANDARD
END:VTIMEZONE
BEGIN:VEVENT
DTSTART;VALUE=DATE:20220623
DTEND;VALUE=DATE:20220627
DTSTAMP:20260421T174311
CREATED:20220615T060542Z
LAST-MODIFIED:20220801T073904Z
UID:2909-1655942400-1656287999@bistritamedievala.ro
SUMMARY:Festivalul de arte vechi Bistrița 2022\, Editia a II-a
DESCRIPTION:  \nFestivalul de Arte Vechi\, ediția a II-a și Zilele Medievale la Turnul Dogarilor\n Bistrița\, 23-26 iunie 2022\n  \nPROGRAM COMPLET \n  \n  \nJoi\, 23 iunie \n  \nCasa Argintarului – Centrul German Bistrița\, Str. Dornei nr. 5 \n17:30 Ateliere de punere în valoare a meșteșugurilor vechi \n18:00 Expoziție de artă\, cu punere în valoare a unor elemente de patrimoniu cultural: \ngrafică Elena Sofia Bobei și pictură Raluca Județ \n  \nVineri\, 24 iunie \n  \nPietonal \n14:00 Atelier de restaurare cu Liceul de Arte \,\,Corneliu Baba” Bistrița și Petrus Italus Trust – Alianta pentru patrimoniul bistritean; \nCasa Argintarului – Centrul German Bistrița\, Str. Dornei nr. 5 \n17:00 Masă rotundă în domeniul restaurării și valorizării patrimoniului cultural material în parteneriat cu Asociația Petrus Italus Trust și Liceul de arte ”Corneliu Baba” \n19:00 Recital de muzică veche – Narcisa Brumar (soprană) și Caius Hera (teorbă)  \nPentru prezentarea artistilor si program detaliat faceti click  aici \n  \nPietonalul Liviu Rebreanu \n12.00 – 21.00 – Târg de meșteșuguri vii Produs în Bistrița-Năsăud și invitații \nAteliere de restaurare\, în parteneriat cu Asociația Petrus Italus Trust și Liceul de arte ”Corneliu Baba” – pietonal \n  \nSâmbătă\, 25 iunie \n  \nPietonalul Liviu Rebreanu \n  \n10.00 – 21.00 – Târg de meșteșuguri vii Produs în Bistrița-Năsăud și invitații \n  \n16.00: \nMicrorecital Peregrinii \nDansuri medievale cu grupul Nosa \nMicrorecital Cimpoierii din Transilvania \nRetragere la Turnul Dogarilor cu o oprire la Parcul Municipal – Foișor \nAnimație medievală cu Paladinii de Terra Medies\, grupul Nosa\, Peregrinii și Cimpoierii din Transilvania \n  \nTurnul Dogarilor \n10.00 – 18:00: \nAnimatie medievală: \n– Păpușile uriașe ale Bistriței \n– muzicanți\, cavaleri și domnițe \n– demonstrații mesteșugărești \n  \nProgram ateliere în Poienița de la Turnul Dogarilor: \n11:00 – Atelier de picturã cu motive sãsesti cu Silvia Țogorean \n12:30 – Ateliere de modelaj lut cu Elfiarmaroc si Adrian Puțura (2 ateliere) \n17:00 – Atelier muzical cu Peregrinii \nNumăr limitat de locuri (10/atelier). Vârsta: +8 ani. \nÎnscrieri pânã miercuri\, 22 iunie\, la tel./ WhatsApp: 0771 024831. \nLocurile se ocupă pe principiul ”Primul venit\, primul servit”. \n  \n18.00 Dansuri medievale cu grupul Nosa \n18.15 Moment cavaleresc cu Paladinii de Terra Medies \n18.30 Dansuri medievale cu grupul Nosa \n18.45 O istorie a Cetății cu Castelanul Săsărman \n19.00 Moment muzical cu Peregrinii \n19.15 Moment cavaleresc cu Paladinii de Terra Medies \n19.45 Moment muzical cu Cimpoierii din Transilvania \n20.00 Dansuri medievale cu grupul Nosa \n20.15 Microrecital Peregrinii \n20.45 O istorie a Turnului Dogarilor cu Castelanul Săsărman \n21.00 Microrecital Cimpoierii din Transilvania \n21.30 Moment de animatie cu foc SiriuS: “Turnul damnaților” \n21.45 Proiecție de film istoric la un pahar de vin sau de bere artizanală \n  \n12.00 – 23.00: \n– terasa cu bere artizanală “Musai” și vinuri din arealul viticol Lechința – Crama Jelna și Crama Valea Ascunsă Teaca \n– mâncăruri gătite după rețete medievale de Chef Elena Rus “Din deal” \n  \n  \nDuminică\, 26 iunie \n  \nPietonalul Liviu Rebreanu \n  \n10.00 – 21.00 – Târg de meșteșuguri vii Produs în Bistrița-Năsăud și invitații \n  \nOra 12.00 \nMicrorecital Peregrinii \nDansuri medievale cu grupul Nosa \nMicrorecital Cimpoierii din Transilvania \n  \nOra 16.00 \nMicrorecital Peregrinii \nDansuri medievale cu grupul Nosa \nMicrorecital Cimpoierii din Transilvania \nRetragere la Turnul Dogarilor cu o oprire la Parcul Municipal – Foișor \nAnimație medievală cu Paladinii de Terra Medies\, grupul Nosa\, Peregrinii și Cimpoierii din Transilvania \n  \nTurnul Dogarilor \n  \n10.00 – 18.00 \nAnimatie medievală: \n– Păpușile uriașe ale Bistriței \n– muzicanți\, cavaleri și domnițe \n– demonstrații mesteșugărești \n  \nProgram ateliere în Poienița de la Turnul Dogarilor: \n11:00 – Atelier muzical cu Cimpoierii din Transilvania \n15:00 – Atelier duel scenic cu Peregrinii \n17:00 – Atelier împletituri papură cu Szilagyi Ilona \n  \nNumăr limitat de locuri (10/atelier). Vârsta: +8 ani. \nÎnscrieri pânã miercuri\, 22 iunie\, la tel./ WhatsApp: 0771 024831. \nLocurile se ocupă pe principiul ”Primul venit\, primul servit”. \n  \n18.00 Dansuri medievale cu grupul Nosa \n18.15 Moment cavaleresc cu Paladinii de Terra Medies \n18.45 Dansuri medievale cu grupul Nosa \n19.00 Moment muzical cu Cimpoierii din Transilvania \n19.15 Moment cavaleresc cu Paladinii de Terra Medies \n20.00 Moment muzical cu Peregrinii \n20.15 Dansuri medievale cu grupul Nosa \n20.30 Microrecital Cimpoierii din Transilvania \n21.00 Microrecital Peregrinii \n21.40 Proiecție de film istoric la un pahar de vin sau de bere artizanală \n  \n12.00 – 23.00: \n– terasa cu bere artizanală “Musai” și vinuri din arealul viticol Lechința – Crama Jelna și Crama Valea Ascunsă Teaca \n– mâncăruri gătite după rețete medievale de Chef Elena Rus “Din deal” \n  \n  \n 
URL:https://bistritamedievala.ro/event/festivalul-de-arte-vechi-bistrita-2022-editia-a-ii-a/
LOCATION:Bistriţa\, Bistriţa\, România
ATTACH;FMTTYPE=image/jpeg:https://bistritamedievala.ro/wp-content/uploads/2022/06/42285fed-5063-4642-9a1b-7db49b934a0d.jpg
END:VEVENT
END:VCALENDAR