BEGIN:VCALENDAR
VERSION:2.0
PRODID:-//Bistriţa Medievală - ECPv5.16.3//NONSGML v1.0//EN
CALSCALE:GREGORIAN
METHOD:PUBLISH
X-ORIGINAL-URL:https://bistritamedievala.ro
X-WR-CALDESC:Events for Bistriţa Medievală
REFRESH-INTERVAL;VALUE=DURATION:PT1H
X-Robots-Tag:noindex
X-PUBLISHED-TTL:PT1H
BEGIN:VTIMEZONE
TZID:Europe/Bucharest
BEGIN:DAYLIGHT
TZOFFSETFROM:+0200
TZOFFSETTO:+0300
TZNAME:EEST
DTSTART:20230326T010000
END:DAYLIGHT
BEGIN:STANDARD
TZOFFSETFROM:+0300
TZOFFSETTO:+0200
TZNAME:EET
DTSTART:20231029T010000
END:STANDARD
END:VTIMEZONE
BEGIN:VEVENT
DTSTART;VALUE=DATE:20231005
DTEND;VALUE=DATE:20231009
DTSTAMP:20260420T175128
CREATED:20230425T053354Z
LAST-MODIFIED:20231026T101813Z
UID:2969-1696464000-1696809599@bistritamedievala.ro
SUMMARY:Festivalul de Arte Vechi 2023
DESCRIPTION:Un nou eveniment altfel în burgul Bistrița: Festivalul de arte vechi Bistrița\, 5-8 Octombrie 2023 \nFestivalul de Arte Vechi\, ajuns la ediția a III-a\, readuce în burgul Bistriței atmosfera de acum sute de ani\, prin concerte de muzică veche\, expoziții\, ateliere de creație și restaurare\, storytelling\, târg de meșteșuguri vii\, dansuri din perioada de glorie a cetății. \nMoștenirea istorică și culturală locală constituie un element semnificativ al brandului Poarta Transilvaniei și au un rol cheie în dezvoltarea durabilă\, iar punerea lor în valoare prin evenimente culturale care facilitează cunoașterea istoriei locale\, a elementelor caracteristice fiecărei perioade istorice și măsura în care acestea sunt reflectate în patrimoniul cultural material și imaterial\, este o necesitate și un act de onoare. Este exact ce își propune Festivalul de arte vechi\, un proiect inițiat de Asociația Culturală Bistrița Medievală și finanțat din fonduri publice alocate pentru activități nonprofit de interes general de către Primăria Municipiului Bistrița și Consiliul Județean Bistrița-Năsăud.\nÎn perioada 5-8 octombrie 2023\, publicul larg va putea să intre în conexiune cu moștenirea istorică și culturală prin concerte de muzică veche cu elevii și cadrele didactice ale Liceului de Muzică „Tudor Jarda” și cu formația Musica Profana\, ateliere de creație cu Vlad Bodașca și Adrian Solcan\, dansuri renascentiste cu grupul Renaissance\, tururi ghidate cu voluntarii EUROPE DIRECT Bistrița-Năsăud și ai Serviciului Politici Publice Educație\, Tineret\, Turism și Sport din cadrul Primăriei municipiului Bistrița\, expoziții și ateliere de punere în valoare a patrimoniului în parteneriat cu Asociația Petrus Italus Trust\, Complexul Muzeal Bistrița-Năsăud și Liceul de arte ”Corneliu Baba”\, târguri de produse tradiționale și meșteșuguri Produs în Bistrița-Năsăud\, ateliere educative și alte activități interactive. Cu această ocazie\, Biserica Evanghelică din Bistrița\, proaspăt reinaugurată după un proces elaborat de restaurare\, își va redeschide porțile sâmbătă\, 7 octombrie pentru un eveniment complex\, al cărui punct culminant va fi spectacolul extraordinar de muzică veche\, cu instrumente de epocă\, al formației Musica Profana.\nProgramul festivalului poate fi accesat on-line pe www.bistritamedievala.ro\, caietul de program al fiecărui recital în parte\, urmând a fi disponibil pe pagina de Facebook a evenimentului https://www.facebook.com/artevechibistritamedievala \nParteneri: Asociația „Produs în Bistrița-Năsăud”\, Centrul EUROPE DIRECT Bistrița-Năsăud\, Universitatea Babeș-Bolyai extensia Bistrița\, Facultatea de Geografie\, specializarea Geografia Turismului\, Asociația Petrus Italus Trust\, Fundația Societatea de Concerte Bistrița\, Liceul de muzică Tudor Jarda\, Bodo Gallery\, Primăria Galații Bistriței\, Școala Gimnazială ”Grigore Herinean” Galații Bistriței \nProiectul Festivalul de arte vechi vizează să sprijine eforturile autorităților locale de valorizare a moștenirii culturale\, în măsură să creeze avantaje pentru diferențiere și să-i sporească atractivitatea\, prin efortul integrat al parteneriatului\, ce reunește actori sociali cu expertiză în domeniile vizate de proiect\, în realizarea de activități cu un caracter aparte\, de impact regional/ național/ internațional\, ce îmbină valorizarea elementelor de patrimoniu cultural material și construit cu cele de patrimoniu imaterial\, activități educative non-formale destinate\, în mod special tinerilor\, și de voluntariat. \nFestivalul de arte vechi\, ediția a III-a \nBistrița 2023 \n Program \nJoi\, 5 octombrie \nCasa Argintarului – Centrul German Bistrița\, Str. Dornei nr. 5 \nOra 16:00 – Atelier de storytelling cu John Row (Marea Britanie)\, în parteneriat cu Asociația Produs în Bistrița-Năsăud\, Extensia Bistrița a Universității Babeș-Bolyai – Facultatea de Geografie\, Liceul de Arte „Corneliu Baba”\, Liceul de Muzică „Tudor Jarda”\, Primăria Galații Bistriței\, Școala Gimnazială ”Grigore Herinean” Galații Bistriței \nÎnscrieri în limita locurilor disponibile la nr. de WhatsApp 0726378603 sau e-mail bistritamedievala@gmail.com \nVineri\, 6 octombrie  \nBodo Art Gallery – Pietonal\, Str. Liviu Rebreanu nr. 20 \n Ora 15:00 – 18:30 – Atelier de sculptură\, olărit și pictură cu Vlad Bodașca și Adrian Solcan. \nÎnscrieri\, în limita locurilor disponibile\, la nr. de WhatsApp 0726378603 sau e-mail bistritamedievala@gmail.com \nOra 17:00 – Recital de muzică veche cu elevii și profesorii Liceului de Muzică „Tudor Jarda” \nSâmbătă\, 7 octombrie \n Pietonalul Liviu Rebreanu \n Ora 15.30 – Dansuri renascentiste cu grupul Renaissance (Deva) \n Biserica Evanghelică \n Ora 16:00: \n Descoperă tainele cetății! – Tur ghidat al centrului istoric cu plecare din fața Bisericii Evanghelice\, în parteneriat cu Centrul EUROPE DIRECT Bistrița-Năsăud \n Ora 17:00: \n Dansuri renascentiste cu grupul Renaissance (Deva) \nWorkshop & expoziție foto „Restaurarea Bisericilor Evanghelice din Bistrița și Vermeș\, exemple de bune practici”\, în parteneriat cu Asociația Petrus Italus Trust\, Complexul Muzeal Bistrița-Năsăud și Liceul de arte ”Corneliu Baba”. Prezintă: istoric Vasile Duda\, arheolog Radu Zăgreanu\, artist plastic Sever Moldovan\, arhitect Lavinia Cociubei. \nTururi ghidate în Biserica Evanghelica oferite de voluntarii Serviciului Politici Publice Educație\, Tineret\, Turism și Sport din cadrul Primăriei Bistrița \nOra 18.00 – Dansuri renascentiste cu grupul Renaissance (Deva) \n Spectacol extraordinar cu formația de muzică veche Musica Profana (Ungaria) \nPiața Mică \nOra 09:00 – 14:00 – Târg de bunătăți tradiționale Produs în Bistrița-Năsăud \nÎn perioada 6 – 8 octombrie:  \nPietonalul Liviu Rebreanu \n Târgul de meșteșuguri vii Produs în Bistrița-Năsăud
URL:https://bistritamedievala.ro/event/festivalul-de-arte-vechi-2023/
LOCATION:Bistriţa\, Bistriţa\, România
ATTACH;FMTTYPE=image/jpeg:https://bistritamedievala.ro/wp-content/uploads/2023/04/Festivalul-de-Arte-Vechi-Afis-2023P2-scaled.jpg
END:VEVENT
END:VCALENDAR