BEGIN:VCALENDAR
VERSION:2.0
PRODID:-//Bistriţa Medievală - ECPv5.16.3//NONSGML v1.0//EN
CALSCALE:GREGORIAN
METHOD:PUBLISH
X-ORIGINAL-URL:https://bistritamedievala.ro
X-WR-CALDESC:Events for Bistriţa Medievală
REFRESH-INTERVAL;VALUE=DURATION:PT1H
X-Robots-Tag:noindex
X-PUBLISHED-TTL:PT1H
BEGIN:VTIMEZONE
TZID:Europe/Bucharest
BEGIN:DAYLIGHT
TZOFFSETFROM:+0200
TZOFFSETTO:+0300
TZNAME:EEST
DTSTART:20230326T010000
END:DAYLIGHT
BEGIN:STANDARD
TZOFFSETFROM:+0300
TZOFFSETTO:+0200
TZNAME:EET
DTSTART:20231029T010000
END:STANDARD
BEGIN:DAYLIGHT
TZOFFSETFROM:+0200
TZOFFSETTO:+0300
TZNAME:EEST
DTSTART:20240331T010000
END:DAYLIGHT
BEGIN:STANDARD
TZOFFSETFROM:+0300
TZOFFSETTO:+0200
TZNAME:EET
DTSTART:20241027T010000
END:STANDARD
END:VTIMEZONE
BEGIN:VEVENT
DTSTART;VALUE=DATE:20231216
DTEND;VALUE=DATE:20241217
DTSTAMP:20260419T223109
CREATED:20231123T163511Z
LAST-MODIFIED:20231213T140431Z
UID:3025-1702684800-1734393599@bistritamedievala.ro
SUMMARY:Serbările Bistriței Medievale - O Poveste de Crăciun 2023
DESCRIPTION:Serbările Bistriței Medievale în premieră și în ediție de iarnă! \nPrimul târg medieval de Crăciun din România va avea loc la Bistrița pe data de 16 decembrie 2023. Evenimentul intitulat “O Poveste străveche de Crăciun” este inspirat de spiritul Crăciunului de altădată și va diversifica programul Târgului de Crăciun prin completarea activităților pe modelul târgurilor medievale de advent din Europa Centrală și de Vest: muzică – concert de colinde tradiționale\, în orchestrație autentică\, cu\ninstrumente medievale (fluiere\, cimpoaie\, hurdy-gurdy\, cittern\, rauschpfeiffe\, surle\, tobe) așa cum erau interpretate în urmă cu secole\, animație medievală\, produse și ateliere meșteșugărești\, standuri care vor încânta gurmanzii\, decorațiuni și un spectacol de jonglerii cu foc. Așadar centrul istoric al orașului în care s-au păstrat elemente ale zidurilor medievale\, Turnul Dogarilor\, diverse clădiri din perioada renascentistă și vedeta\nlocului\, Biserica Evanghelică\, proaspăt renovată\, va oferi un cadru natural care va deveni parte a unui spectacol vizual. \nProgram: \n11.30 – Moment muzical cu Cimpoierii din Transilvania\n12.00 – Probe de sunet Cimpoierii din Transilvania\n16.30 – Moment muzical cu Cimpoierii din Transilvania\n17.00 – Ateliere meșteșugăresti\n18.00 – Concert de colinde Cimpoierii din Transilvania – partea I\n18.30 – Ateliere meșteșugăresti\n19.00 – Concert de colinde Cimpoierii din Transilvania – partea a II-a\n20.00 – Spectacol de jonglerii cu foc SiriuS\n\nPe tot parcursul zilei (între orele 10.00 – 21.00): \nTârgul medieval/ renascentist organizat în parteneriat cu Asociația Produs în Bistrița-Năsăud\, animație medievală\, consursuri cu premii. \nCu participarea:\nCimpoierii din Transilvania – muzică medievală/ colinde tradiționale\nwww.pipersoftransylvania.eu\nSiriuS – fire show\nhttps://www.facebook.com/siriuss\nProgram detaliat pe: www.bistritamedievala.ro și pe pagina de facebook Bistrita Medievală.\nSerbările Bistriței Medievale 2023 sunt organizate de Asociația Culturală Bistrița Medievală\, proiect finanțat nerambursabil din bugetul local al Municipiului Bistrița pe anul 2023. \nParteneri:\nAsociația „Produs în Bistrița-Năsăud”\nEurope Direct Bistrița-Năsăud\nUniversitatea Babeș-Bolyai extensia Bistrița\, Facultatea de Geografie\, specializarea Geografia Turismului\nAsociația Petrus Italus Trust\nFundația Societatea de Concerte Bistrița\nLiceul de muzică Tudor Jarda \nSponsori:\nOpen Consult – Reclame Bistrița\nProfesional Sistem\nParteneri media:\nAgerpres\nArdeal TV\nAs-TV\nBistrițeanul\nBistrița News\ne-Zine\nGazeta de Bistrița\nInfoBistrița\nN1\nObservatorBN\nProPoliticaNews\nRadio Transilvania\nRăsunetul\nSângeorz TV\nTimpOnline
URL:https://bistritamedievala.ro/event/serbarile-bistritei-medievale-o-poveste-de-craciun-2023/
LOCATION:Bistriţa\, Bistriţa\, România
ATTACH;FMTTYPE=image/jpeg:https://bistritamedievala.ro/wp-content/uploads/2023/11/Bistrita-Medievala-poster-2023-Craciun-S.jpg
END:VEVENT
END:VCALENDAR