BEGIN:VCALENDAR
VERSION:2.0
PRODID:-//Bistriţa Medievală - ECPv5.16.3//NONSGML v1.0//EN
CALSCALE:GREGORIAN
METHOD:PUBLISH
X-ORIGINAL-URL:https://bistritamedievala.ro
X-WR-CALDESC:Events for Bistriţa Medievală
REFRESH-INTERVAL;VALUE=DURATION:PT1H
X-Robots-Tag:noindex
X-PUBLISHED-TTL:PT1H
BEGIN:VTIMEZONE
TZID:Europe/Bucharest
BEGIN:DAYLIGHT
TZOFFSETFROM:+0200
TZOFFSETTO:+0300
TZNAME:EEST
DTSTART:20220327T010000
END:DAYLIGHT
BEGIN:STANDARD
TZOFFSETFROM:+0300
TZOFFSETTO:+0200
TZNAME:EET
DTSTART:20221030T010000
END:STANDARD
END:VTIMEZONE
BEGIN:VEVENT
DTSTART;VALUE=DATE:20220806
DTEND;VALUE=DATE:20220808
DTSTAMP:20260421T134101
CREATED:20220727T160913Z
LAST-MODIFIED:20220727T193003Z
UID:2932-1659744000-1659916799@bistritamedievala.ro
SUMMARY:Străjeri în Poarta Transilvaniei
DESCRIPTION:  \nDescoperă comorile ascunse ale Rodnei\, împreună cu Străjerii Porții Transilvaniei! \n  \nSpiritul medieval al Rodnei reînvie la începutul lunii august\, dezvăluind din misterele\, istoria și cultura încărcată de tradiții străvechi\, precum și din frumusețea unui patrimoniu natural de o valoare inestimabilă – toate acestea\, elemente atât de importante pentru prezentul și viitorul nostru. În perioada 6-7 august 2022\, Asociația Culturală Bistrița Medievală vă invită să învățați despre ele\, într-un mod activ\, prin ateliere de reconstituire istorică\, tururi ghidate în Cetatea Rodnei și ateliere de promovare a patrimoniului natural. Activitățile vor face parte dintr-un eveniment complex\, ce se va desfășura în aceeași perioadă\, în Ansamblul “Cetatea Rodnei”. \nCu sprijinul Consiliului Județean Bistrița-Năsăud\, Asociația Culturală Bistrița Medievală organizează\, în perioada 6-7 august 2022\, un șir de activități incluse în proiectul „Străjeri în Poarta Transilvaniei”. Desfășurate într-un amplu parteneriat\, împreună cu Primăria comunei Rodna\, Liceul Tehnologic „Florian Porcius” Rodna\, Europe Direct Bistrița-Năsăud\, Asociația ”Produs în Bistrița-Năsăud”\, Filiala Bistrița-Năsăud a Asociației Comunelor din România\, Administrația Parcului Național Munții Rodnei\, Asociația cultural-istorică Rodna Veche\, Asociația WildLife Ro\, Biserica Greco-Catolică Sf. Gheorghe Rodna acestea includ: \n\nateliere de reconstituire istorică cu Paladinii de Terra Medies;\ntururi ghidate în Cetatea Rodna\, incluzând obiective importante\, precum Ansamblul “Cetatea Rodnei”\, reprezentat de Biserica Greco-Catolică „Sf.M.Mc. Gheorghe” (corpul clădirii\, o parte din corul bisericii medivale – sec.XIII\, turnul clopotniță) și ruinele cetății medievale fortificate;\nateliere verzi “Trăistuța cu flori de leac” în parteneriat cu Wildlife.ro;\nsesiuni informative privind patrimoniul natural\, organizate împreună cu Administrația Parcului Național Munții Rodnei;\nactivități de promovare al patrimoniului cultural\, împreună cu Asociația cultural-istorică Rodna Veche.\n\nVă vor însoți\, în acest periplu\, tinerii Străjeri ai Porții Transilvaniei – elevi și studenți din Bistrița-Năsăud\, alături de ghizii lor de nădejde. \nProiectul va continua\, în cursul lunilor august – septembrie\, cu o campanie de informare în unitățile de învățământ și dialoguri privind activarea civică și culturală a comunității\, menite să contribuie la dezvoltarea sustenabilă a acesteia. \nProiect realizat cu sprijinul Consiliului Judeţean Bistriţa-Năsăud
URL:https://bistritamedievala.ro/event/2932/
ATTACH;FMTTYPE=image/jpeg:https://bistritamedievala.ro/wp-content/uploads/2022/07/Strajeri-poster-fara-www-s-1.jpg
END:VEVENT
BEGIN:VEVENT
DTSTART;VALUE=DATE:20220806
DTEND;VALUE=DATE:20220808
DTSTAMP:20260421T134101
CREATED:20220801T065822Z
LAST-MODIFIED:20220801T132009Z
UID:2956-1659744000-1659916799@bistritamedievala.ro
SUMMARY:Porți medievale deschise la Cetatea Rodna – Străjeri în Poarta Transilvaniei
DESCRIPTION:În premieră după secole\, Rodna îmbracă straie medievale\, în perioada 6 – 7 august 2022  \nPentru prima dată în istoria contemporană\, porțile ansamblului “Cetatea Rodnei” se vor deschide spre vremuri demult apuse\, dezvăluind atmosfera medievală a localității rurale grănicerești montane cu cea mai mare vechime. \nPlină de farmec\, curtea cetății va deveni o adevărată tabără medievală cu menestreli\, rapsozi\, cavaleri și momente de reconstituire istorică\, meșteșugari și ateliere de creație\, ateliere de gastronomie locală cu iz medieval\, tururi ghidate\, ateliere de leac\, produse marca Produs în Bistrița-Năsăud\, ateliere de promovare a patrimoniului cultural și natural\, precum și alte surprize.  \nComuna Rodna\, atestată documentar în anul 1235\, este una plină de istorie și mistere\, porți secrete spre lumi subterane\, ocupații străvechi și tradiții transmise în timp. Exploatarea zăcămintelor auro-argintifere și importanța sa în tranzitul peste munți au făcut din această comunitate una prosperă\, în perioada medievală. Adăugând zestrei culturale un patrimoniu natural de o valoare inestimabilă\, zona este\, cu siguranță\, un punct de referință în turismul județului nostru. \nÎn perioada 6-7 august\, porțile văzute și nevăzute ale Rodnei se deschid în premieră\, după secole\, dezvăluind din frumusețile și istoria acestui colț de lume. \nMomente de reconstituire istorică\, muzică medievală și tradițională\, animație stradală cu păpușile uriașe medievale ale Bistriței – Andreas și Catharina\, târg de meșteșuguri vii și produse marca ”Produs în Bistrița-Năsăud”\, ateliere verzi și de creație\, gastronomie locală cu iz medieval și alte surprize vor ”asedia” Ansamblul “Cetatea Rodnei”\, reprezentat de Biserica Greco-Catolică „Sf.M.Mc. Gheorghe” (corpul clădirii\, o parte din corul bisericii medivale – sec.XIII\, turnul clopotniță) și ruinele cetății medievale fortificate. \nPaladinii de Terra Medies vor readuce în prezent\, luptele cavalerești\, completate de alte activități medievale interactive. \nAnimației din tabără i se vor alătura meșteșugarii\, care vor face demonstrații la fața locului\, publicul având posibilitatea să participe la diverse ateliere. Muzica medievală va răsuna din plin\, prin vocea Cimpoierilor din Transilvania\, care vă vor invita și la ateliere muzicale. Rapsozii autohtoni\, aduși în scenă de Centrul Județean pentru Cultură\, vor da viață unor șezători muzicale de excepție. \nAtât cei mari\, cât și cei mici vor mai putea participa la: tururi ghidate în Cetatea Rodna împreună cu tinerii Străjeri ai Porții Transilvaniei – elevi și studenți din Bistrița-Năsăud\, alături de ghizii lor de nădejde; ateliere verzi “Trăistuța cu flori de leac” în parteneriat cu Wildlife.ro; sesiuni informative privind patrimoniul natural\, organizate împreună cu Administrația Parcului Național Munții Rodnei; activități de promovare a patrimoniului cultural\, împreună cu Asociația cultural-istorică Rodna Veche; proiecție de film istoric. \nMuzeul Etnografiei și Mineritului\, secție a Complexului Muzeal Bistrița-Năsăud va avea porțile deschise spre toți cei avizi de cultură și tradiții\, iar ”Bibliobuzul” Bibliotecii Județene “George Coșbuc” va deschide porțile lecturilor istorice. \nPe parcursul celor două zile\, cei prezenți se vor putea delecta cu preparate culinare după rețete medievale\, oferite de Punct gastronomic local Elena din Deal\, de bere artizanală locală ”Musai” și vinuri din arealul viticol Lechința. \nToate acestea se întâmplă în cadrul evenimentului ”Porți Medievale Deschise” – inclus pe agenda acțiunilor de celebrare a 30 de ani de existență a Consiliului Județean Bistrița-Năsăud – și proiectului ”Străjeri în Poarta Transilvaniei” – parte a activităților acestuia din urmă fiind organizate simultan\, pentru a maximiza eforturile de promovare a patrimoniului cultural și natural local\, realizate de: Consiliul Județean Bistrița-Năsăud\, Primăria Rodna\, Asociația Produs în Bistrița-Năsăud\, Asociația Culturală Bistrița Medievală\, Centrul Județean pentru Cultură Bistrița-Năsăud\, Complexul Muzeal Bistrița-Năsăud\, Biblioteca Județeană ”George Coșbuc”\, Liceul Tehnologic „Florian Porcius” Rodna\, Europe Direct Bistrița-Năsăud\, Filiala Bistrița-Năsăud a Asociației Comunelor din România\, Administrația Parcului Național Munții Rodnei\, Asociația Cultural-Istorică Rodna Veche\, Asociația WildLife Ro\, Biserica Greco-Catolică Sf. Gheorghe Rodna. \n  \nProgram complet: \nSâmbătă\, 6 august 2022\n11:00 – Atelier de gastronomie locală cu Elena din Deal; \n12:00 – Animație medievală – Cimpoierii din Transilvania\, Păpușile uriașe ale  Bistriței\, cavaleri – paradă din centrul comunei până în cetate\, deschidere oficială\, moment muzical Cimpoierii din Transilvania; \n13:00 – Atelier meșteșugăresc – țesut cu Ileana Domide și Oltița Dănilă; \n– Atelier de reconstituire istorică cu Paladinii de Terra Medies; \n13:30 – Tur ghidat ”Ansamblul cetății Rodna” cu Străjerii Porții Transilvaniei\, coordonați de Părintele Pavel Vranău; \n14:00 – Microrecital Cimpoierii din Transilvania – muzică medievală; \n14:00 – Atelier meșteșugăresc – confecționare soldăței de plută cu Sorin Tisa; \n14:30 – Atelier de reconstituire istorică cu Paladinii de Terra Medies; \n15:00 – Tur ghidat ”Ansamblul cetății Rodna” cu Străjerii Porții Transilvaniei\, coordonați de Părintele Pavel Vranău; \n\nIncursiuni în istoria locală. Prezentare meșteșug și meșteșugar;\n\n15:30 – Atelier muzical cu Cimpoierii din Transilvania; \n16:00 – Atelier de gastronomie – Concurs Jurnalist Chef\, cu participarea mass media locală; \n– Atelier de modelaj în lut – piese de șah ce pun în valoare patrimoniul  cultural local cu elevii Liceului de Arte Corneliu Baba\, voluntari ai EUROPE DIRECT Bistrița-Năsăud; \n16:30 – Spectacol cavaleresc cu Paladinii de Terra Medies; \n17:00 – Microrecital Cimpoierii din Transilvania – muzică medievală; \n17:30 – Incursiuni în istoria locală. Prezentare meșteșug și meșteșugar; \n– Tur ghidat ”Ansamblul cetății Rodna” cu Străjerii Porții Transilvaniei\, coordonați de Părintele Pavel Vranău; \n18:00 – Șezatoare muzicală tradițională – rapsozi și instrumentiști tradiționali locali\, în coordonarea Centrului Județean pentru Cultură: Grupul Folcloric „Glanetașul” din Agrieș\, comuna Târlișua; coordonator artistic: Floarea POP\, Teodora Purja\, Eugenia Horoba\, Aurica Bozga\, Teodor Burzo\, Ionică Moldovan\, Ioan Șorecău\, Taraful Tradițional „PĂUNIȚA” din Sângeorz-Băi\,conducerea muzicală: Dănuț Gabor Poleac. \n19:30 – Spectacol cavaleresc cu Paladinii de Terra Medies; \n20:00 – Microrecital Cimpoierii din Transilvania – muzică medievală; \n21:00 – Proiecție film istoric; \nPe tot parcursul zilei: \n\nAteliere verzi ”Trăistuța cu flori de leac” cu Wild Life RO;\nTârg de meșteșuguri vii și produse locale – Produs în Bistrița-Năsăud;\nZiua porților deschise la Muzeul Etnografiei și Mineritului;\nInfo point de promovare și protejare a patrimoniului natural cu rangerii din Parcul Național Munții Rodnei;\nColțul de lectură istorică ”Bibliobuz” oferit de Biblioteca Județeană „George Coșbuc”;\nTras cu arcul la țintă;\nMâncăruri gătite după rețete medievale de Punct de gastronomie locală ”Elena din Deal”;\nTerasa cu bere artizanală “Musai”și vinuri din arealul viticol Lechința.\n\nDuminică\, 7 august 2022\n12:00 – Animație medievală – Cimpoierii din Transilvania\, Păpușile uriașe ale Bistriței\, cavaleri – paradă din cetate până în centrul centrul comunei și înapoi în cetate\, moment muzical Cimpoierii din Transilvania; \n12:30 – Atelier de gastronomie locală cu Elena din Deal; \n– Incursiuni în istoria locală. Prezentare meșteșug și meșteșugar ; \n13:00 – Atelier de reconstituire istorică cu Paladinii de Terra Medies; \n13:30 – Atelier meșteșugăresc – împletituri din papură cu Ileana Szilagyi; \n14:00 – Atelier de reconstituire istorică cu Paladinii de Terra Medies; \n14:30 – Atelier muzical cu Cimpoierii din Transilvania; \n15:00 – Incursiuni în istoria locală. Prezentare meșteșug și meșteșugar; \n– Tur ghidat ”Ansamblul cetății Rodna” cu Străjerii Porții Transilvaniei\, coordonați de Părintele Pavel Vranău; \n– Atelier de modelaj în lut – piese de șah ce pun în valoare patrimoniul  cultural local cu elevii Liceului de Arte Corneliu Baba\, voluntari ai EUROPE DIRECT Bistrița-Năsăud; \n15:30 – Microrecital Cimpoierii din Transilvania – muzică medievală; \n16:00 – Spectacol cavaleresc cu Paladinii de Terra Medies; \n16:30 – Tur ghidat ”Ansamblul cetății Rodna” cu Străjerii Porții Transilvaniei\, coordonați de Părintele Pavel Vranău; \n– Atelier meșteșugăresc – țesut cu Ileana Domide și Oltița Dănilă ; \n17:00 – Atelier muzical cu Cimpoierii din Transilvania; \n17:30 – Atelier de reconstituire istorică cu Paladinii de Terra Medies; \n18:00 – Microrecital Cimpoierii din Transilvania – muzică medievală; \n18:30 – Reprezentație Teatrul nescris ”Constantin Iugan”; \n19:00 – Șezatoare muzicală tradițională – rapsozi și instrumentiști tradiționali locali\, în coordonarea Centrului Județean pentru Cultură: Grupul Folcloric „Flori Dumitrene” din comuna Dumitra – coordonator artistic: Dina Simion\, Nicolae Sava\, Anchidim Cilica\, Leanca Dominica\, Lucreția Pomohaci\, Dănilă Filipoi\, Floarea Cosmi\, Ionică Moldovan\, Ioan Șorecău. \nPe tot parcursul zilei: \n\nAteliere verzi ”Trăistuța cu flori de leac” cu Wild Life RO;\nTârg de meșteșuguri vii și produse locale – Produs în Bistrița-Năsăud;\nZiua porților deschise la Muzeul Etnografiei și Mineritului;\nInfo point de promovare și protejare a patrimoniului natural cu rangerii din Parcul Național Munții Rodnei;\nColțul de lectură istorică ”Bibliobuz” oferit de Biblioteca Județeană „George Coșbuc”;\nTras cu arcul la țintă;\nMâncăruri gătite după rețete medievale de Punct de gastronomie locală ”Elena din Deal”;\nTerasa cu bere artizanală “Musai”și vinuri din arealul viticol Lechința.
URL:https://bistritamedievala.ro/event/porti-medievale-deschise-la-cetatea-rodna-strajeri-in-poarta-transilvaniei/
LOCATION:Cetatea Rodna\, Rodna\, Bistrita-Nasaud\, România
ATTACH;FMTTYPE=image/jpeg:https://bistritamedievala.ro/wp-content/uploads/2022/08/Poster-2-s.jpg
END:VEVENT
END:VCALENDAR